Package: rGADEM Version: 2.54.0 Command: rm -rf rGADEM.buildbin-libdir && mkdir rGADEM.buildbin-libdir && /Users/biocbuild/BBS/utils/build-universal.sh rGADEM_2.54.0.tar.gz /Library/Frameworks/R.framework/Resources/bin/R rGADEM.buildbin-libdir StartedAt: 2025-01-31 13:30:46 -0500 (Fri, 31 Jan 2025) EndedAt: 2025-01-31 13:32:26 -0500 (Fri, 31 Jan 2025) EllapsedTime: 99.8 seconds RetCode: 0 Status: OK PackageFile: rGADEM_2.54.0.tgz PackageFileSize: 682.9 KiB