Package: rGADEM Version: 2.54.0 Command: /Library/Frameworks/R.framework/Resources/bin/R CMD build --keep-empty-dirs --no-resave-data rGADEM StartedAt: 2025-01-30 22:14:31 -0500 (Thu, 30 Jan 2025) EndedAt: 2025-01-30 22:16:42 -0500 (Thu, 30 Jan 2025) EllapsedTime: 131.2 seconds RetCode: 0 Status: OK PackageFile: rGADEM_2.54.0.tar.gz PackageFileSize: 376.8 KiB