Package: rGADEM Version: 2.54.0 Command: /Library/Frameworks/R.framework/Resources/bin/R CMD check --install=check:rGADEM.install-out.txt --library=/Library/Frameworks/R.framework/Resources/library --no-vignettes --timings rGADEM_2.54.0.tar.gz StartedAt: 2025-01-31 08:54:11 -0500 (Fri, 31 Jan 2025) EndedAt: 2025-01-31 09:01:53 -0500 (Fri, 31 Jan 2025) EllapsedTime: 462.4 seconds RetCode: 0 Status: WARNINGS CheckDir: rGADEM.Rcheck Warnings: 1