Package: rGADEM Version: 2.54.0 Command: /Library/Frameworks/R.framework/Resources/bin/R CMD INSTALL rGADEM StartedAt: 2025-01-30 15:39:05 -0500 (Thu, 30 Jan 2025) EndedAt: 2025-01-30 15:40:41 -0500 (Thu, 30 Jan 2025) EllapsedTime: 96.4 seconds RetCode: 0 Status: OK