Package: rGADEM Version: 2.54.0 Command: /home/biocbuild/bbs-3.20-bioc/R/bin/R CMD build --keep-empty-dirs --no-resave-data --md5 rGADEM StartedAt: 2025-01-30 18:48:53 -0500 (Thu, 30 Jan 2025) EndedAt: 2025-01-30 18:50:18 -0500 (Thu, 30 Jan 2025) EllapsedTime: 85.1 seconds RetCode: 0 Status: OK PackageFile: rGADEM_2.54.0.tar.gz PackageFileSize: 378.7 KiB