Package: rGADEM Version: 2.54.0 Command: /home/biocbuild/bbs-3.20-bioc/R/bin/R CMD check --install=check:rGADEM.install-out.txt --library=/home/biocbuild/bbs-3.20-bioc/R/site-library --timings rGADEM_2.54.0.tar.gz StartedAt: 2025-01-31 01:34:43 -0500 (Fri, 31 Jan 2025) EndedAt: 2025-01-31 01:39:30 -0500 (Fri, 31 Jan 2025) EllapsedTime: 287.4 seconds RetCode: 0 Status: WARNINGS CheckDir: rGADEM.Rcheck Warnings: 1