Package: rGADEM Version: 2.54.0 Command: /home/biocbuild/bbs-3.20-bioc/R/bin/R CMD INSTALL rGADEM StartedAt: 2025-01-30 15:22:12 -0500 (Thu, 30 Jan 2025) EndedAt: 2025-01-30 15:22:53 -0500 (Thu, 30 Jan 2025) EllapsedTime: 41.4 seconds RetCode: 0 Status: OK