Package: rGADEM Version: 2.53.0 Command: F:\biocbuild\bbs-3.20-bioc\R\bin\R.exe CMD INSTALL rGADEM StartedAt: 2024-06-09 16:06:21 -0400 (Sun, 09 Jun 2024) EndedAt: 2024-06-09 16:07:36 -0400 (Sun, 09 Jun 2024) EllapsedTime: 75.2 seconds RetCode: 0 Status: OK