Package: rGADEM Version: 2.54.0 Command: chmod a+r rGADEM -R && F:\biocbuild\bbs-3.20-bioc\R\bin\R.exe CMD build --keep-empty-dirs --no-resave-data rGADEM StartedAt: 2025-02-03 21:38:53 -0500 (Mon, 03 Feb 2025) EndedAt: 2025-02-03 21:41:54 -0500 (Mon, 03 Feb 2025) EllapsedTime: 180.5 seconds RetCode: 0 Status: OK PackageFile: rGADEM_2.54.0.tar.gz PackageFileSize: 225.1 KiB