Package: rGADEM Version: 2.54.0 Command: F:\biocbuild\bbs-3.20-bioc\R\bin\R.exe CMD check --no-multiarch --install=check:rGADEM.install-out.txt --library=F:\biocbuild\bbs-3.20-bioc\R\library --no-vignettes --timings rGADEM_2.54.0.tar.gz StartedAt: 2025-01-31 05:40:51 -0500 (Fri, 31 Jan 2025) EndedAt: 2025-01-31 05:46:10 -0500 (Fri, 31 Jan 2025) EllapsedTime: 319.1 seconds RetCode: 0 Status: WARNINGS CheckDir: rGADEM.Rcheck Warnings: 1