Package: rGADEM Version: 2.54.0 Command: /home/biocbuild/R/R/bin/R CMD build --keep-empty-dirs --no-resave-data rGADEM StartedAt: 2025-01-31 02:08:09 -0000 (Fri, 31 Jan 2025) EndedAt: 2025-01-31 02:08:16 -0000 (Fri, 31 Jan 2025) EllapsedTime: 7.0 seconds RetCode: 1 Status: ERROR PackageFile: None PackageFileSize: NA