Package: rGADEM Version: 2.54.0 Command: /home/biocbuild/R/R/bin/R CMD INSTALL rGADEM StartedAt: 2025-01-30 20:27:12 -0000 (Thu, 30 Jan 2025) EndedAt: 2025-01-30 20:27:19 -0000 (Thu, 30 Jan 2025) EllapsedTime: 7.0 seconds RetCode: 1 Status: ERROR