Package: rSWeeP Version: 1.18.0 Command: /Library/Frameworks/R.framework/Resources/bin/R CMD build --keep-empty-dirs --no-resave-data rSWeeP StartedAt: 2025-02-03 21:52:34 -0500 (Mon, 03 Feb 2025) EndedAt: 2025-02-03 21:53:23 -0500 (Mon, 03 Feb 2025) EllapsedTime: 49.5 seconds RetCode: 0 Status: OK PackageFile: rSWeeP_1.18.0.tar.gz PackageFileSize: 358.6 KiB