Package: rSWeeP Version: 1.18.0 Command: chmod a+r rSWeeP -R && F:\biocbuild\bbs-3.20-bioc\R\bin\R.exe CMD build --keep-empty-dirs --no-resave-data rSWeeP StartedAt: 2025-02-10 21:42:42 -0500 (Mon, 10 Feb 2025) EndedAt: 2025-02-10 21:43:18 -0500 (Mon, 10 Feb 2025) EllapsedTime: 36.6 seconds RetCode: 0 Status: OK PackageFile: rSWeeP_1.18.0.tar.gz PackageFileSize: 297.1 KiB