Package: rSWeeP Version: 1.18.0 Command: /home/biocbuild/R/R/bin/R CMD build --keep-empty-dirs --no-resave-data rSWeeP StartedAt: 2025-02-04 02:28:21 -0000 (Tue, 04 Feb 2025) EndedAt: 2025-02-04 02:28:58 -0000 (Tue, 04 Feb 2025) EllapsedTime: 37.0 seconds RetCode: 0 Status: OK PackageFile: rSWeeP_1.18.0.tar.gz PackageFileSize: 345.8 KiB