Package: rSWeeP Version: 1.18.0 Command: /home/biocbuild/R/R/bin/R CMD INSTALL rSWeeP StartedAt: 2025-02-03 20:32:10 -0000 (Mon, 03 Feb 2025) EndedAt: 2025-02-03 20:32:23 -0000 (Mon, 03 Feb 2025) EllapsedTime: 12.9 seconds RetCode: 0 Status: OK