Package: rScudo Version: 1.22.0 Command: /Library/Frameworks/R.framework/Resources/bin/R CMD check --install=check:rScudo.install-out.txt --library=/Library/Frameworks/R.framework/Resources/library --no-vignettes --timings rScudo_1.22.0.tar.gz StartedAt: 2025-02-05 08:14:51 -0500 (Wed, 05 Feb 2025) EndedAt: 2025-02-05 08:15:37 -0500 (Wed, 05 Feb 2025) EllapsedTime: 45.9 seconds RetCode: 0 Status: OK CheckDir: rScudo.Rcheck Warnings: 0