Package: rScudo Version: 1.22.0 Command: /Library/Frameworks/R.framework/Resources/bin/R CMD INSTALL rScudo StartedAt: 2025-02-10 15:16:50 -0500 (Mon, 10 Feb 2025) EndedAt: 2025-02-10 15:16:59 -0500 (Mon, 10 Feb 2025) EllapsedTime: 9.1 seconds RetCode: 0 Status: OK