Package: rScudo Version: 1.22.0 Command: chmod a+r rScudo -R && F:\biocbuild\bbs-3.20-bioc\R\bin\R.exe CMD build --keep-empty-dirs --no-resave-data rScudo StartedAt: 2025-02-03 21:47:34 -0500 (Mon, 03 Feb 2025) EndedAt: 2025-02-03 21:49:51 -0500 (Mon, 03 Feb 2025) EllapsedTime: 137.8 seconds RetCode: 0 Status: OK PackageFile: rScudo_1.22.0.tar.gz PackageFileSize: 387.9 KiB