Package: rScudo Version: 1.22.0 Command: F:\biocbuild\bbs-3.20-bioc\R\bin\R.exe CMD INSTALL rScudo StartedAt: 2025-02-03 16:21:40 -0500 (Mon, 03 Feb 2025) EndedAt: 2025-02-03 16:21:56 -0500 (Mon, 03 Feb 2025) EllapsedTime: 16.5 seconds RetCode: 0 Status: OK