Package: rScudo Version: 1.22.0 Command: /home/biocbuild/R/R/bin/R CMD build --keep-empty-dirs --no-resave-data rScudo StartedAt: 2025-02-04 02:27:47 -0000 (Tue, 04 Feb 2025) EndedAt: 2025-02-04 02:30:19 -0000 (Tue, 04 Feb 2025) EllapsedTime: 152.2 seconds RetCode: 0 Status: OK PackageFile: rScudo_1.22.0.tar.gz PackageFileSize: 592.6 KiB