Package: raer Version: 1.4.0 Command: /Library/Frameworks/R.framework/Resources/bin/R CMD build --keep-empty-dirs --no-resave-data raer StartedAt: 2025-01-30 22:04:19 -0500 (Thu, 30 Jan 2025) EndedAt: 2025-01-30 22:19:22 -0500 (Thu, 30 Jan 2025) EllapsedTime: 903.0 seconds RetCode: 0 Status: OK PackageFile: raer_1.4.0.tar.gz PackageFileSize: 2.455 MiB