Package: raer Version: 1.4.0 Command: /Library/Frameworks/R.framework/Resources/bin/R CMD INSTALL raer StartedAt: 2025-01-30 15:39:41 -0500 (Thu, 30 Jan 2025) EndedAt: 2025-01-30 15:41:19 -0500 (Thu, 30 Jan 2025) EllapsedTime: 97.9 seconds RetCode: 0 Status: OK