Package: raer Version: 1.4.0 Command: /home/biocbuild/R/R/bin/R CMD build --keep-empty-dirs --no-resave-data raer StartedAt: 2025-02-04 02:03:46 -0000 (Tue, 04 Feb 2025) EndedAt: 2025-02-04 02:14:23 -0000 (Tue, 04 Feb 2025) EllapsedTime: 636.7 seconds RetCode: 0 Status: OK PackageFile: raer_1.4.0.tar.gz PackageFileSize: 1.576 MiB