Package: raer Version: 1.4.0 Command: /home/biocbuild/R/R/bin/R CMD check --install=check:raer.install-out.txt --library=/home/biocbuild/R/R/site-library --no-vignettes --timings raer_1.4.0.tar.gz StartedAt: 2025-02-04 10:12:11 -0000 (Tue, 04 Feb 2025) EndedAt: 2025-02-04 10:20:04 -0000 (Tue, 04 Feb 2025) EllapsedTime: 472.9 seconds RetCode: 0 Status: OK CheckDir: raer.Rcheck Warnings: 0