Package: ramr Version: 1.14.0 Command: rm -rf ramr.buildbin-libdir && mkdir ramr.buildbin-libdir && /Users/biocbuild/BBS/utils/build-universal.sh ramr_1.14.0.tar.gz /Library/Frameworks/R.framework/Resources/bin/R ramr.buildbin-libdir StartedAt: 2025-02-05 17:17:23 -0500 (Wed, 05 Feb 2025) EndedAt: 2025-02-05 17:17:39 -0500 (Wed, 05 Feb 2025) EllapsedTime: 16.7 seconds RetCode: 0 Status: OK PackageFile: ramr_1.14.0.tgz PackageFileSize: 2.7 MiB