Package: ramr Version: 1.14.0 Command: /Library/Frameworks/R.framework/Resources/bin/R CMD build --keep-empty-dirs --no-resave-data ramr StartedAt: 2025-02-11 06:07:50 -0500 (Tue, 11 Feb 2025) EndedAt: 2025-02-11 06:09:29 -0500 (Tue, 11 Feb 2025) EllapsedTime: 99.2 seconds RetCode: 0 Status: OK PackageFile: ramr_1.14.0.tar.gz PackageFileSize: 2.668 MiB