Package: ramr Version: 1.14.0 Command: /Library/Frameworks/R.framework/Resources/bin/R CMD INSTALL ramr StartedAt: 2025-02-03 15:52:21 -0500 (Mon, 03 Feb 2025) EndedAt: 2025-02-03 15:52:54 -0500 (Mon, 03 Feb 2025) EllapsedTime: 33.0 seconds RetCode: 0 Status: OK