Package: ramr Version: 1.14.0 Command: rm -rf ramr.buildbin-libdir && mkdir ramr.buildbin-libdir && F:\biocbuild\bbs-3.20-bioc\R\bin\R.exe CMD INSTALL --build --library=ramr.buildbin-libdir ramr_1.14.0.tar.gz StartedAt: 2025-01-31 09:21:50 -0500 (Fri, 31 Jan 2025) EndedAt: 2025-01-31 09:22:12 -0500 (Fri, 31 Jan 2025) EllapsedTime: 22.0 seconds RetCode: 0 Status: OK PackageFile: ramr_1.14.0.zip PackageFileSize: 2.203 MiB