############################################################################## ############################################################################## ### ### Running command: ### ### chmod a+r ramr -R && F:\biocbuild\bbs-3.20-bioc\R\bin\R.exe CMD build --keep-empty-dirs --no-resave-data ramr ### ############################################################################## ############################################################################## * checking for file 'ramr/DESCRIPTION' ... OK * preparing 'ramr': * checking DESCRIPTION meta-information ... OK * installing the package to build vignettes * creating vignettes ...Warning in file(con, "r") : cannot open file 'F:\biocbuild\bbs-3.20-bioc\tmpdir\RtmpUHxQGu\xshell1433831f94cf6': Permission denied Error in file(con, "r") : cannot open the connection Execution halted