Package: ramr Version: 1.14.0 Command: chmod a+r ramr -R && F:\biocbuild\bbs-3.20-bioc\R\bin\R.exe CMD build --keep-empty-dirs --no-resave-data ramr StartedAt: 2025-02-03 21:29:39 -0500 (Mon, 03 Feb 2025) EndedAt: 2025-02-03 21:34:43 -0500 (Mon, 03 Feb 2025) EllapsedTime: 304.9 seconds RetCode: 1 Status: ERROR PackageFile: None PackageFileSize: NA