Package: randPack Version: 1.52.0 Command: /Library/Frameworks/R.framework/Resources/bin/R CMD INSTALL randPack StartedAt: 2025-02-03 15:10:15 -0500 (Mon, 03 Feb 2025) EndedAt: 2025-02-03 15:10:20 -0500 (Mon, 03 Feb 2025) EllapsedTime: 4.7 seconds RetCode: 0 Status: OK