Package: randPack Version: 1.52.0 Command: /home/biocbuild/bbs-3.20-bioc/R/bin/R CMD INSTALL randPack StartedAt: 2025-01-30 15:04:52 -0500 (Thu, 30 Jan 2025) EndedAt: 2025-01-30 15:04:56 -0500 (Thu, 30 Jan 2025) EllapsedTime: 3.5 seconds RetCode: 0 Status: OK