Package: randPack Version: 1.52.0 Command: chmod a+r randPack -R && F:\biocbuild\bbs-3.20-bioc\R\bin\R.exe CMD build --keep-empty-dirs --no-resave-data randPack StartedAt: 2025-02-03 21:29:48 -0500 (Mon, 03 Feb 2025) EndedAt: 2025-02-03 21:30:04 -0500 (Mon, 03 Feb 2025) EllapsedTime: 16.5 seconds RetCode: 0 Status: OK PackageFile: randPack_1.52.0.tar.gz PackageFileSize: 143.9 KiB