Package: rawDiag Version: 1.2.0 Command: rm -rf rawDiag.buildbin-libdir && mkdir rawDiag.buildbin-libdir && /Users/biocbuild/BBS/utils/build-universal.sh rawDiag_1.2.0.tar.gz /Library/Frameworks/R.framework/Resources/bin/R rawDiag.buildbin-libdir StartedAt: 2025-02-01 16:22:03 -0500 (Sat, 01 Feb 2025) EndedAt: 2025-02-01 16:22:11 -0500 (Sat, 01 Feb 2025) EllapsedTime: 7.9 seconds RetCode: 0 Status: OK PackageFile: rawDiag_1.2.0.tgz PackageFileSize: 2.089 MiB