Package: rawDiag Version: 1.2.0 Command: /Library/Frameworks/R.framework/Resources/bin/R CMD check --install=check:rawDiag.install-out.txt --library=/Library/Frameworks/R.framework/Resources/library --no-vignettes --timings rawDiag_1.2.0.tar.gz StartedAt: 2025-02-01 05:57:04 -0500 (Sat, 01 Feb 2025) EndedAt: 2025-02-01 05:58:56 -0500 (Sat, 01 Feb 2025) EllapsedTime: 111.8 seconds RetCode: 0 Status: OK CheckDir: rawDiag.Rcheck Warnings: 0