Package: rawrr Version: 1.14.0 Command: rm -rf rawrr.buildbin-libdir && mkdir rawrr.buildbin-libdir && /Users/biocbuild/BBS/utils/build-universal.sh rawrr_1.14.0.tar.gz /Library/Frameworks/R.framework/Resources/bin/R rawrr.buildbin-libdir StartedAt: 2025-02-04 13:54:43 -0500 (Tue, 04 Feb 2025) EndedAt: 2025-02-04 13:54:55 -0500 (Tue, 04 Feb 2025) EllapsedTime: 11.6 seconds RetCode: 0 Status: OK PackageFile: rawrr_1.14.0.tgz PackageFileSize: 1.996 MiB