Package: rawrr Version: 1.14.0 Command: /Library/Frameworks/R.framework/Resources/bin/R CMD build --keep-empty-dirs --no-resave-data rawrr StartedAt: 2025-02-10 21:34:57 -0500 (Mon, 10 Feb 2025) EndedAt: 2025-02-10 21:36:21 -0500 (Mon, 10 Feb 2025) EllapsedTime: 83.9 seconds RetCode: 0 Status: OK PackageFile: rawrr_1.14.0.tar.gz PackageFileSize: 1.962 MiB