Package: rawrr Version: 1.14.0 Command: /Library/Frameworks/R.framework/Resources/bin/R CMD check --install=check:rawrr.install-out.txt --library=/Library/Frameworks/R.framework/Resources/library --no-vignettes --timings rawrr_1.14.0.tar.gz StartedAt: 2025-02-04 08:35:41 -0500 (Tue, 04 Feb 2025) EndedAt: 2025-02-04 08:38:20 -0500 (Tue, 04 Feb 2025) EllapsedTime: 159.0 seconds RetCode: 0 Status: OK CheckDir: rawrr.Rcheck Warnings: 0