Package: rawrr Version: 1.14.0 Command: F:\biocbuild\bbs-3.20-bioc\R\bin\R.exe CMD check --no-multiarch --install=check:rawrr.install-out.txt --library=F:\biocbuild\bbs-3.20-bioc\R\library --no-vignettes --timings rawrr_1.14.0.tar.gz StartedAt: 2025-02-04 05:17:19 -0500 (Tue, 04 Feb 2025) EndedAt: 2025-02-04 05:19:19 -0500 (Tue, 04 Feb 2025) EllapsedTime: 120.1 seconds RetCode: 0 Status: OK CheckDir: rawrr.Rcheck Warnings: 0