Package: rawrr Version: 1.14.0 Command: F:\biocbuild\bbs-3.20-bioc\R\bin\R.exe CMD INSTALL rawrr StartedAt: 2025-02-10 15:26:58 -0500 (Mon, 10 Feb 2025) EndedAt: 2025-02-10 15:27:25 -0500 (Mon, 10 Feb 2025) EllapsedTime: 26.7 seconds RetCode: 0 Status: OK