Package: rawrr Version: 1.14.0 Command: /home/biocbuild/R/R/bin/R CMD INSTALL rawrr StartedAt: 2025-02-03 20:22:23 -0000 (Mon, 03 Feb 2025) EndedAt: 2025-02-03 20:22:46 -0000 (Mon, 03 Feb 2025) EllapsedTime: 22.9 seconds RetCode: 1 Status: ERROR