Package: rbsurv Version: 2.64.0 Command: rm -rf rbsurv.buildbin-libdir && mkdir rbsurv.buildbin-libdir && /Users/biocbuild/BBS/utils/build-universal.sh rbsurv_2.64.0.tar.gz /Library/Frameworks/R.framework/Resources/bin/R rbsurv.buildbin-libdir StartedAt: 2025-02-05 17:18:26 -0500 (Wed, 05 Feb 2025) EndedAt: 2025-02-05 17:18:35 -0500 (Wed, 05 Feb 2025) EllapsedTime: 9.0 seconds RetCode: 0 Status: OK PackageFile: rbsurv_2.64.0.tgz PackageFileSize: 393.4 KiB