Package: rbsurv Version: 2.64.0 Command: /Library/Frameworks/R.framework/Resources/bin/R CMD INSTALL rbsurv StartedAt: 2025-02-03 17:17:36 -0500 (Mon, 03 Feb 2025) EndedAt: 2025-02-03 17:17:44 -0500 (Mon, 03 Feb 2025) EllapsedTime: 8.1 seconds RetCode: 0 Status: OK