Package: rbsurv Version: 2.64.0 Command: /Library/Frameworks/R.framework/Resources/bin/R CMD build --keep-empty-dirs --no-resave-data rbsurv StartedAt: 2025-02-03 21:34:16 -0500 (Mon, 03 Feb 2025) EndedAt: 2025-02-03 21:35:27 -0500 (Mon, 03 Feb 2025) EllapsedTime: 71.4 seconds RetCode: 0 Status: OK PackageFile: rbsurv_2.64.0.tar.gz PackageFileSize: 366.4 KiB