Package: rbsurv Version: 2.64.0 Command: /Library/Frameworks/R.framework/Resources/bin/R CMD check --install=check:rbsurv.install-out.txt --library=/Library/Frameworks/R.framework/Resources/library --no-vignettes --timings rbsurv_2.64.0.tar.gz StartedAt: 2025-02-04 08:37:33 -0500 (Tue, 04 Feb 2025) EndedAt: 2025-02-04 08:39:36 -0500 (Tue, 04 Feb 2025) EllapsedTime: 123.1 seconds RetCode: 0 Status: OK CheckDir: rbsurv.Rcheck Warnings: 0