Package: rbsurv Version: 2.64.0 Command: /Library/Frameworks/R.framework/Resources/bin/R CMD INSTALL rbsurv StartedAt: 2025-02-03 16:22:15 -0500 (Mon, 03 Feb 2025) EndedAt: 2025-02-03 16:22:29 -0500 (Mon, 03 Feb 2025) EllapsedTime: 13.6 seconds RetCode: 0 Status: OK