Package: rbsurv Version: 2.64.0 Command: chmod a+r rbsurv -R && F:\biocbuild\bbs-3.20-bioc\R\bin\R.exe CMD build --keep-empty-dirs --no-resave-data rbsurv StartedAt: 2025-02-03 21:32:40 -0500 (Mon, 03 Feb 2025) EndedAt: 2025-02-03 21:33:16 -0500 (Mon, 03 Feb 2025) EllapsedTime: 35.6 seconds RetCode: 0 Status: OK PackageFile: rbsurv_2.64.0.tar.gz PackageFileSize: 254.4 KiB