Package: rbsurv Version: 2.64.0 Command: /home/biocbuild/R/R/bin/R CMD INSTALL rbsurv StartedAt: 2025-02-03 21:07:14 -0000 (Mon, 03 Feb 2025) EndedAt: 2025-02-03 21:07:21 -0000 (Mon, 03 Feb 2025) EllapsedTime: 7.5 seconds RetCode: 0 Status: OK