Package: rcellminer Version: 2.28.0 Command: rm -rf rcellminer.buildbin-libdir && mkdir rcellminer.buildbin-libdir && F:\biocbuild\bbs-3.20-bioc\R\bin\R.exe CMD INSTALL --build --library=rcellminer.buildbin-libdir rcellminer_2.28.0.tar.gz StartedAt: 2025-02-04 09:17:15 -0500 (Tue, 04 Feb 2025) EndedAt: 2025-02-04 09:18:26 -0500 (Tue, 04 Feb 2025) EllapsedTime: 71.6 seconds RetCode: 0 Status: OK PackageFile: rcellminer_2.28.0.zip PackageFileSize: 970.3 KiB